BEGIN:VCALENDAR
VERSION:2.0
PRODID:-//Evans Media Source (EMS), LLC - ECPv6.15.20//NONSGML v1.0//EN
CALSCALE:GREGORIAN
METHOD:PUBLISH
X-WR-CALNAME:Evans Media Source (EMS), LLC
X-ORIGINAL-URL:https://evansmediasource.com
X-WR-CALDESC:Events for Evans Media Source (EMS), LLC
REFRESH-INTERVAL;VALUE=DURATION:PT1H
X-Robots-Tag:noindex
X-PUBLISHED-TTL:PT1H
BEGIN:VTIMEZONE
TZID:America/New_York
BEGIN:DAYLIGHT
TZOFFSETFROM:-0500
TZOFFSETTO:-0400
TZNAME:EDT
DTSTART:20250309T070000
END:DAYLIGHT
BEGIN:STANDARD
TZOFFSETFROM:-0400
TZOFFSETTO:-0500
TZNAME:EST
DTSTART:20251102T060000
END:STANDARD
BEGIN:DAYLIGHT
TZOFFSETFROM:-0500
TZOFFSETTO:-0400
TZNAME:EDT
DTSTART:20260308T070000
END:DAYLIGHT
BEGIN:STANDARD
TZOFFSETFROM:-0400
TZOFFSETTO:-0500
TZNAME:EST
DTSTART:20261101T060000
END:STANDARD
BEGIN:DAYLIGHT
TZOFFSETFROM:-0500
TZOFFSETTO:-0400
TZNAME:EDT
DTSTART:20270314T070000
END:DAYLIGHT
BEGIN:STANDARD
TZOFFSETFROM:-0400
TZOFFSETTO:-0500
TZNAME:EST
DTSTART:20271107T060000
END:STANDARD
END:VTIMEZONE
BEGIN:VEVENT
DTSTART;TZID=America/New_York:20260502T110000
DTEND;TZID=America/New_York:20260502T170000
DTSTAMP:20260419T085333
CREATED:20260416T134642Z
LAST-MODIFIED:20260416T134704Z
UID:10000062-1777719600-1777741200@evansmediasource.com
SUMMARY:Crescent City Music Festival
DESCRIPTION:Saturday\, May 2\,  2026 11:00 am-5:00 pm\nEva Lyons Park\n100  S Summit St\, Crescent City\, FL 32112\nFeaturing\nRhonda Vincent & The Rage\nLyndie Burris\nDean and Ed Show\nDay 3\nRiely\nJoin us for this one-day family friendly event featuring live music\, food\, and craft vendors! \nEvent is free to the public.  Bring a lawn chair! \n  \n  \n \n 
URL:https://evansmediasource.com/events/crescent-city-music-festival/
LOCATION:Eva Lyons Park\, 100 S S Summit St\, Crescent City\, FL\, United States
ATTACH;FMTTYPE=image/png:https://evansmediasource.com/wp-content/uploads/2026/04/670489257_10233078378003126_296968260848613447_n.png
END:VEVENT
BEGIN:VEVENT
DTSTART;TZID=America/New_York:20260604T120000
DTEND;TZID=America/New_York:20260606T220000
DTSTAMP:20260419T085333
CREATED:20260130T143739Z
LAST-MODIFIED:20260130T143739Z
UID:10000060-1780574400-1780783200@evansmediasource.com
SUMMARY:Cherokee Bluegrass Festival
DESCRIPTION:For tickets or more information on the Cherokee Bluegrass Festival\nclick here to visit Classic Promotions\n  \n\n 
URL:https://evansmediasource.com/events/cherokee-bluegrass-festival/
LOCATION:Happy Holiday RV Village\, 1553 Wolfetown Rd\, Cherokee\, NC\, 28719\, United States
ATTACH;FMTTYPE=image/png:https://evansmediasource.com/wp-content/uploads/2026/01/Cherokee-June-2026.png
ORGANIZER;CN="Classic Promotions":MAILTO:Classicpromotionsmusic@gmail.com
END:VEVENT
BEGIN:VEVENT
DTSTART;TZID=America/New_York:20260812T120000
DTEND;TZID=America/New_York:20260815T220000
DTSTAMP:20260419T085333
CREATED:20260305T204016Z
LAST-MODIFIED:20260305T204016Z
UID:10000061-1786536000-1786831200@evansmediasource.com
SUMMARY:North Carolina State Bluegrass Festival
DESCRIPTION:For tickets or more information on the \nNorth Carolina State Bluegrass Festival\nclick here to visit Classic Promotions
URL:https://evansmediasource.com/events/north-carolina-state-bluegrass-festival/
LOCATION:Happy Holiday RV Village\, 1553 Wolfetown Rd\, Cherokee\, NC\, 28719\, United States
ATTACH;FMTTYPE=image/jpeg:https://evansmediasource.com/wp-content/uploads/2026/03/2026-NC-State-Bluegrass-Festival-scaled.jpg
ORGANIZER;CN="Classic Promotions":MAILTO:Classicpromotionsmusic@gmail.com
END:VEVENT
END:VCALENDAR